BEGIN:VCALENDAR
VERSION:2.0
PRODID:-//Lotus Light Temple - ECPv5.8.1//NONSGML v1.0//EN
CALSCALE:GREGORIAN
METHOD:PUBLISH
X-WR-CALNAME:Lotus Light Temple
X-ORIGINAL-URL:https://temple.vllcs.org
X-WR-CALDESC:Events for Lotus Light Temple
BEGIN:VTIMEZONE
TZID:America/Vancouver
BEGIN:DAYLIGHT
TZOFFSETFROM:-0800
TZOFFSETTO:-0700
TZNAME:PDT
DTSTART:20210314T100000
END:DAYLIGHT
BEGIN:STANDARD
TZOFFSETFROM:-0700
TZOFFSETTO:-0800
TZNAME:PST
DTSTART:20211107T090000
END:STANDARD
END:VTIMEZONE
BEGIN:VEVENT
DTSTART;TZID=America/Vancouver:20210703T103000
DTEND;TZID=America/Vancouver:20210703T123000
DTSTAMP:20260421T031102
CREATED:20210702T182108Z
LAST-MODIFIED:20210702T182244Z
UID:2658-1625308200-1625315400@temple.vllcs.org
SUMMARY:Yellow Jambhala Blessing\, Enrichment Water Offering Ceremony
DESCRIPTION:Prayer for Blessings from the Root Guru Grand Master Lu\n  Namo the Great Yellow Jambhala Blessing\, Enrichment Water Offering Ceremony\nTime: \nJuly 3\, 2021\, Sat. 10:30am \nLocation:  \n347 E Hastings St (Lotus Light Temple) \nBenefit:  \nEnrich one’s financial resource and one’s spiritual advancement as well. \nCeremony Registration: \nOnline Registration .\nOnline Donation. \nMailing Address: 200-357 E Hastings St.\, Vancouver\, BC Canada V6A 1P3 \nAll ceremony registrations are on a voluntary donation basis. Free community event\, everybody is welcome!\nIf you have any enquiries or if you need more information with our activities\, please give us a call! Tel:(604) 685-5548
URL:https://temple.vllcs.org/events/yellow-jambhala-blessing-enrichment-water-offering-ceremony/
LOCATION:Lotus Light Temple\, 347 East Hastings St.\, Vancouver\, B.C.\, V6A 1P3\, Canada
CATEGORIES:Ceremony,Water Offering
ATTACH;FMTTYPE=image/jpeg:https://temple.vllcs.org/files/2015/01/Yellow-Jambhala.jpg
ORGANIZER;CN="Lotus%20Light%20Monastery":MAILTO:llcsvancouver@gmail.com
END:VEVENT
END:VCALENDAR