BEGIN:VCALENDAR
VERSION:2.0
PRODID:-//Lotus Light Temple - ECPv5.8.1//NONSGML v1.0//EN
CALSCALE:GREGORIAN
METHOD:PUBLISH
X-WR-CALNAME:Lotus Light Temple
X-ORIGINAL-URL:https://temple.vllcs.org
X-WR-CALDESC:Events for Lotus Light Temple
BEGIN:VTIMEZONE
TZID:America/Vancouver
BEGIN:DAYLIGHT
TZOFFSETFROM:-0800
TZOFFSETTO:-0700
TZNAME:PDT
DTSTART:20240310T100000
END:DAYLIGHT
BEGIN:STANDARD
TZOFFSETFROM:-0700
TZOFFSETTO:-0800
TZNAME:PST
DTSTART:20241103T090000
END:STANDARD
END:VTIMEZONE
BEGIN:VEVENT
DTSTART;TZID=America/Vancouver:20241123T103000
DTEND;TZID=America/Vancouver:20241123T123000
DTSTAMP:20260420T035940
CREATED:20241115T010049Z
LAST-MODIFIED:20241115T010049Z
UID:3080-1732357800-1732365000@temple.vllcs.org
SUMMARY:Nov 23\, 2024 Lotus Light Temple the Mahabala Purification\, Obstacle Removal\, Bardo Fire Homa Ceremony
DESCRIPTION:The Mahabala Purification\, Obstacle Removal\, Bardo Fire Homa Ceremony & Empowerment at Lotus Light Temple\nDate: Nov 23\, 2024\, Saturday       \nTime:  10:30am – 12:30pm        \nLocation: Lotus Light Temple (Vancouver) \nCeremony conducted by: Vajra Master Lian Tzi \nFacebook: Lotus Light Temple \nMahabala\n  \nIntro: Mahabala is a Heruka and the integration of Amitabha\, Golden Mother of the Jade Pond\, Ksitigarbha\, Mighty Envoy\, and Padmakumara. He is the protector of True Buddha School. Mahabala is actually a vajra Dharma protector of precepts. When cultivating for love and respect\, one visualizes Mahabala in red color; subjugation\, blue; purification\, white; and enrichment\, yellow. \nCeremony Address: 347 E Hastings St\, Vancouver \n  \nRegistered as supplicant for the ceremony: \nIf you would like to register as the Primary Sponsor or Secondary Sponsor of the ceremony\, please contact us. \n \nOnline registration . \nYou may register for your family\, and\, ancestors as well for deliverance. \nAll ceremony registrations are on a voluntary donation basis. It is a free community event\, everybody is welcome! We welcome sponsors and donations to support our ongoing events and functions! \n  \nOn Line Donation. \nIf you have any enquiries or if you need more information with our activities\, please give us a call! Tel:(604) 685-5548 \nMailing Address:  \n200-357 E Hastings St.\, Vancouver\, BC Canada V6A 1P3 \n  \nMahabala Heruka Sadhana\nTrue Buddha Dharma-character Treasury – Mahabala\n 
URL:https://temple.vllcs.org/events/nov-23-2024-lotus-light-temple-the-mahabala-purification-obstacle-removal-bardo-fire-homa-ceremony/
LOCATION:Lotus Light Temple\, Vancouver\, 347 E. Hastings Street\, Vancouver\, V6A 1P3
CATEGORIES:Fire Homa
ATTACH;FMTTYPE=image/jpeg:https://temple.vllcs.org/files/2020/02/pt1305-華光大力金剛安座02.jpg
ORGANIZER;CN="Lotus%20Light%20Temple":MAILTO:llcsvancouver@gmail.com
END:VEVENT
END:VCALENDAR