BEGIN:VCALENDAR
VERSION:2.0
PRODID:-//Lotus Light Temple - ECPv5.8.1//NONSGML v1.0//EN
CALSCALE:GREGORIAN
METHOD:PUBLISH
X-WR-CALNAME:Lotus Light Temple
X-ORIGINAL-URL:https://temple.vllcs.org
X-WR-CALDESC:Events for Lotus Light Temple
BEGIN:VTIMEZONE
TZID:America/Vancouver
BEGIN:DAYLIGHT
TZOFFSETFROM:-0800
TZOFFSETTO:-0700
TZNAME:PDT
DTSTART:20140309T100000
END:DAYLIGHT
BEGIN:STANDARD
TZOFFSETFROM:-0700
TZOFFSETTO:-0800
TZNAME:PST
DTSTART:20141102T090000
END:STANDARD
END:VTIMEZONE
BEGIN:VEVENT
DTSTART;TZID=America/Vancouver:20140119T103000
DTEND;TZID=America/Vancouver:20140119T123000
DTSTAMP:20260421T044240
CREATED:20140107T030445Z
LAST-MODIFIED:20140111T223410Z
UID:364-1390127400-1390134600@temple.vllcs.org
SUMMARY:Namo Vasudhara Purification\, Blessings\, Enrichment\, Bardo Fire Homa Ceremony & Empowerment
DESCRIPTION:Namo Vasudhara Purification\, Blessings\, Enrichment\, Bardo Fire Homa Ceremony & Empowerment \nTime: Jan 19\, 2014\, Sun 10:30AM \nIntro: The “Wealth Attracting Goddess”\, Vasudhara\, is the most wealth deity in the Western Paradise\, who will be able to bless everyone to be financially resourceful.   \nSpecial: Prime Sponsor\, Merit Sponsor; Alter Offerings; Offering to Sangha\, Public Meal Offering \nOnline Registration: \nDownload Blessing Registration Form \, Bardo Registration Form \nVasudhara
URL:https://temple.vllcs.org/events/namo-vasudhara-purification-blessings-enrichment-bardo-fire-homa-ceremony-empowerment/
LOCATION:Lotus Light Monastery\, 6571 No. 6 Rd.\, Richmond\, B.C.\, V6W 1C7\, Canada
CATEGORIES:Ceremony
ORGANIZER;CN="Lotus%20Light%20Monastery":MAILTO:llcsvancouver@gmail.com
END:VEVENT
END:VCALENDAR