BEGIN:VCALENDAR
VERSION:2.0
PRODID:-//Lotus Light Temple - ECPv5.8.1//NONSGML v1.0//EN
CALSCALE:GREGORIAN
METHOD:PUBLISH
X-WR-CALNAME:Lotus Light Temple
X-ORIGINAL-URL:https://temple.vllcs.org
X-WR-CALDESC:Events for Lotus Light Temple
BEGIN:VTIMEZONE
TZID:America/Vancouver
BEGIN:DAYLIGHT
TZOFFSETFROM:-0800
TZOFFSETTO:-0700
TZNAME:PDT
DTSTART:20140309T100000
END:DAYLIGHT
BEGIN:STANDARD
TZOFFSETFROM:-0700
TZOFFSETTO:-0800
TZNAME:PST
DTSTART:20141102T090000
END:STANDARD
END:VTIMEZONE
BEGIN:VEVENT
DTSTART;TZID=America/Vancouver:20140118T103000
DTEND;TZID=America/Vancouver:20140118T123000
DTSTAMP:20260421T044128
CREATED:20140111T223615Z
LAST-MODIFIED:20140111T223753Z
UID:378-1390041000-1390048200@temple.vllcs.org
SUMMARY:Namo Vasudhara Purification\, Blessings\, Enrichment\, Bardo Fire Homa Ceremony & Empowerment
DESCRIPTION:Namo Vasudhara Purification\, Blessings\, Enrichment\, Bardo Fire Homa Ceremony & Empowerment \nTime: Jan 18\, 2014\, Sat 10:30AM (Lotus Light Temple) \nIntro: The “Wealth Attracting Goddess”\, Vasudhara\, is the most wealth deity in the Western Paradise\, who will be able to bless everyone to be financially resourceful.  \nSpecial: Prime Sponsor\, Merit Sponsor; Alter Offerings; Offering to Sangha\, Public Meal Offering \nOnline Registration: \nDownload Blessing Registration Form \, Bardo Registration Form \nVasudhara
URL:https://temple.vllcs.org/events/namo-vasudhara-purification-blessings-enrichment-bardo-fire-homa-ceremony-empowerment-2/
LOCATION:Lotus Light Temple\, 347 East Hastings St.\, Vancouver\, B.C.\, V6A 1P3\, Canada
CATEGORIES:Ceremony
ORGANIZER;CN="Lotus%20Light%20Temple":MAILTO:llcsvancouver@gmail.com
END:VEVENT
END:VCALENDAR