BEGIN:VCALENDAR
VERSION:2.0
PRODID:-//Lotus Light Temple - ECPv5.8.1//NONSGML v1.0//EN
CALSCALE:GREGORIAN
METHOD:PUBLISH
X-WR-CALNAME:Lotus Light Temple
X-ORIGINAL-URL:https://temple.vllcs.org
X-WR-CALDESC:Events for Lotus Light Temple
BEGIN:VTIMEZONE
TZID:America/Vancouver
BEGIN:DAYLIGHT
TZOFFSETFROM:-0800
TZOFFSETTO:-0700
TZNAME:PDT
DTSTART:20250309T100000
END:DAYLIGHT
BEGIN:STANDARD
TZOFFSETFROM:-0700
TZOFFSETTO:-0800
TZNAME:PST
DTSTART:20251102T090000
END:STANDARD
END:VTIMEZONE
BEGIN:VEVENT
DTSTART;TZID=America/Vancouver:20251025T103000
DTEND;TZID=America/Vancouver:20251025T160000
DTSTAMP:20260422T041633
CREATED:20251016T000616Z
LAST-MODIFIED:20251016T010310Z
UID:3258-1761388200-1761408000@temple.vllcs.org
SUMMARY:Namo the Great Marici Bodhisattva Purification\, Blessing\, Obstacle Removal & Deliverance Bardo Fire Homa Ceremony
DESCRIPTION:Prayer for Blessings from the Root Guru Grand Master Lu\n Namo the Great Marici Bodhisattva Purification\, Blessing\, Obstacle Removal  & Deliverance Bardo Fire Homa Ceremony\nMarici Bodhisattva Fire Homa and Sutra and Mantra Recitation 1-Day Dharma Camp \nTime: Oct 25\, 2025\, Saturday @ 10:30am – 4:00pm \n\n10:30am Marici Bodhisattva Purification\, Blessing\, Obstacle Removal  & Deliverance Bardo Fire Homa Ceremony\n4:00pm Marici Sutra and Mantra Recitation Intensive Class\n\nLocation:  Lotus Light Monastery\, 6571 No 6 Rd\, Richmond\nPresiding: Master Lian Tzi\nSupporting: Master\, Reverends\, Dharma Lecturer and Dharma Assistant Team \n Introduction:  \nCelebrate the birthday of the Great Marici Bodhisattva on the annual “Double Yang Festival” day (the 9th day of the 9th Month on the Lunar Calendar)\, you will be well protected and be blessed by Marici Bodhisattva. \nSpecial Offerings: Register to be the Primary Supplicant or Supporting Sponsor for the ceremony \nNamo Marici Bodhisattva\nCeremony Registration: \nOnline registration . \nMailing Address: 200-357 E Hastings St.\, Vancouver\, BC Canada V6A 1P3 \nAll ceremony registrations are on a voluntary donation basis. Free community event\, everybody is welcome! \nIf you have any enquiries or if you need more information with our activities\, please give us a call! Tel:(604)685-5548 \nOn Line Donation.
URL:https://temple.vllcs.org/events/namo-the-great-marici-bodhisattva-purification-blessing-obstacle-removal-deliverance-bardo-fire-homa-ceremony/
LOCATION:Lotus Light Monastery\, 6571 No. 6 Rd.\, Richmond\, B.C.\, V6W 1C7\, Canada
CATEGORIES:Ceremony,Fire Homa
ATTACH;FMTTYPE=image/jpeg:https://temple.vllcs.org/files/2014/09/Marici1.jpg
ORGANIZER;CN="Lotus%20Light%20Temple%20%26%20Lotus%20Light%20Monastery":MAILTO:llcsancouver@gmail.com
END:VEVENT
END:VCALENDAR