BEGIN:VCALENDAR
VERSION:2.0
PRODID:-//Lotus Light Temple - ECPv5.8.1//NONSGML v1.0//EN
CALSCALE:GREGORIAN
METHOD:PUBLISH
X-WR-CALNAME:Lotus Light Temple
X-ORIGINAL-URL:https://temple.vllcs.org
X-WR-CALDESC:Events for Lotus Light Temple
BEGIN:VTIMEZONE
TZID:America/Vancouver
BEGIN:DAYLIGHT
TZOFFSETFROM:-0800
TZOFFSETTO:-0700
TZNAME:PDT
DTSTART:20190310T100000
END:DAYLIGHT
BEGIN:STANDARD
TZOFFSETFROM:-0700
TZOFFSETTO:-0800
TZNAME:PST
DTSTART:20191103T090000
END:STANDARD
END:VTIMEZONE
BEGIN:VEVENT
DTSTART;TZID=America/Vancouver:20190921T100000
DTEND;TZID=America/Vancouver:20190921T123000
DTSTAMP:20260421T013633
CREATED:20190911T020115Z
LAST-MODIFIED:20190911T020655Z
UID:2538-1569060000-1569069000@temple.vllcs.org
SUMMARY:Namo Medicine Buddha Great Repentance Ceremony
DESCRIPTION:Namo Medicine Buddha Great Repentance Ceremony\nDate: Sep 21\, 2019 Saturday Morning\nTime: 10:00am – 12:30pm \nLocation:Lotus Light Temple (Vancouver) \nCeremony conducted by: Master Lian Wu \nFacebook: Lotus Light Temple \n\n \nRepentance Ceremony Intro:  \nAll will receive blessing\, purification\, and healing from the great healer king of the Namo Medicine Buddha. Thus one may live a longer life. All registrants and participants in the human world and in the spiritual world are benefiting from the merit of great repentance. \nMedicine Buddha Repentance Offering: Light Offering and Blessing Label are available  \nCeremony Registration: (one may register for your family\, and\, ancestors as well for deliverance) \nOnline registration . \nAll ceremony registrations are on a voluntary donation basis. Free community event\, everybody is welcome! \nIf you have any enquiries or if you need more information with our activities\, please give us a call! Tel:(604) 685-5548 \nOn Line Donation. \nMailing Address: 200-357 E Hastings St.\, Vancouver\, BC Canada V6A 1P3 \n 
URL:https://temple.vllcs.org/events/namo-medicine-buddha-great-repentance-ceremony/
LOCATION:Lotus Light Temple in Vancouver\, 347 E. Hastings Street\, Vancouver\, V6A 1P3
CATEGORIES:Ceremony,Repentance
ATTACH;FMTTYPE=image/jpeg:https://temple.vllcs.org/files/2014/10/Medicinebuddha.jpg
ORGANIZER;CN="Lotus%20Light%20Temple":MAILTO:llcsvancouver@gmail.com
END:VEVENT
END:VCALENDAR