BEGIN:VCALENDAR
VERSION:2.0
PRODID:-//Lotus Light Temple - ECPv5.8.1//NONSGML v1.0//EN
CALSCALE:GREGORIAN
METHOD:PUBLISH
X-WR-CALNAME:Lotus Light Temple
X-ORIGINAL-URL:https://temple.vllcs.org
X-WR-CALDESC:Events for Lotus Light Temple
BEGIN:VTIMEZONE
TZID:America/Vancouver
BEGIN:DAYLIGHT
TZOFFSETFROM:-0800
TZOFFSETTO:-0700
TZNAME:PDT
DTSTART:20140309T100000
END:DAYLIGHT
BEGIN:STANDARD
TZOFFSETFROM:-0700
TZOFFSETTO:-0800
TZNAME:PST
DTSTART:20141102T090000
END:STANDARD
END:VTIMEZONE
BEGIN:VEVENT
DTSTART;TZID=America/Vancouver:20140111T103000
DTEND;TZID=America/Vancouver:20140111T123000
DTSTAMP:20260421T043934
CREATED:20140104T015136Z
LAST-MODIFIED:20140111T223206Z
UID:362-1389436200-1389443400@temple.vllcs.org
SUMMARY:Maha Bhogavati Bodhisattva Fire Homa and Empowerment
DESCRIPTION:Maha Bhogavati Bodhisattva Fire Homa and Empowerment\nTime: Jan 11\, 2014 Sunday\, 10:30am-12:30pm (Lotus Light Temple) \nBenefit: Bodhisattva Bhogavati\, ‘He who is endowed with wealth’\,  also called the Vajra of Satisfaction. So called because he is in charge of bestowing blessings & virtues\, whose fundamental vow is to give freely to all sentient beings. \nSpecial: Prime Sponsor\, Merit Sponsor; Alter Offerings; Offering to Sangha\, Public Meal Offering \nOnline Registration \nMaha Bhogavati Bodhisattvag
URL:https://temple.vllcs.org/events/maha-bhogavati-bodhisattva-fire-homa-and-empowerment/
LOCATION:Lotus Light Temple\, 347 East Hastings St.\, Vancouver\, B.C.\, V6A 1P3\, Canada
CATEGORIES:Ceremony
ORGANIZER;CN="Lotus%20Light%20Temple":MAILTO:llcsvancouver@gmail.com
END:VEVENT
END:VCALENDAR