BEGIN:VCALENDAR
VERSION:2.0
PRODID:-//Lotus Light Temple - ECPv5.8.1//NONSGML v1.0//EN
CALSCALE:GREGORIAN
METHOD:PUBLISH
X-WR-CALNAME:Lotus Light Temple
X-ORIGINAL-URL:https://temple.vllcs.org
X-WR-CALDESC:Events for Lotus Light Temple
BEGIN:VTIMEZONE
TZID:America/Vancouver
BEGIN:DAYLIGHT
TZOFFSETFROM:-0800
TZOFFSETTO:-0700
TZNAME:PDT
DTSTART:20180311T100000
END:DAYLIGHT
BEGIN:STANDARD
TZOFFSETFROM:-0700
TZOFFSETTO:-0800
TZNAME:PST
DTSTART:20181104T090000
END:STANDARD
END:VTIMEZONE
BEGIN:VEVENT
DTSTART;TZID=America/Vancouver:20180818T103000
DTEND;TZID=America/Vancouver:20180818T120000
DTSTAMP:20260421T013732
CREATED:20180811T232136Z
LAST-MODIFIED:20180811T232136Z
UID:2427-1534588200-1534593600@temple.vllcs.org
SUMMARY:Ksitigarbha Bodhisattva Yoga Bardo Ceremony & Empowerment
DESCRIPTION:The Ksitigarbha Bodhisattva Yoga Bardo Great Ceremony & Empowerment (地藏王瑜伽焰口超度法會)\nDate: Aug 18th \, Saturday Morning\nTime: 10:30am – Noon \nLocation:Lotus Light Temple (Vancouver) \nCeremony conducted by:  Presiding Master Vajra Master Lian Tzi \nFacebook: Lotus Light Temple \n\n\nFeature: Ksitigarbha Bodhisattva’s powerful “Seven-star Command Flag” will be used in the deliverance ceremony to purify and liberate our ancestors and the deceased \nBenefit: Bring harmony to sentient beings in the Human World and in the Spiritual World \n \n  \nSponsorship & Offerings are needed: Abundance of rice & food offerings are needed in every evenings for the whole week\, sponsorship and donations are welcomed!\nJoss Offerings for the spirits are also available \nComplete Bardo Offering to the spiritual realm\nClothes offerings to ancestors\, deceased\, and spirits.\nCeremony Registration: (one may register for your family\, and\, ancestors as well for deliverance) \n \nOnline registration . \nAll ceremony registrations are on a voluntary donation basis. Free community event\, everybody is welcome! \nIf you have any enquiries or if you need more information with our activities\, please give us a call! Tel:(604) 685-5548 \nOn Line Donation. \nMailing Address: 200-357 E Hastings St.\, Vancouver\, BC Canada V6A 1P3
URL:https://temple.vllcs.org/events/ksitigarbha-bodhisattva-yoga-bardo-ceremony-empowerment-3/
LOCATION:Lotus Light Temple in Vancouver\, 347 E. Hastings Street\, Vancouver\, V6A 1P3
CATEGORIES:Bardo,Ceremony,Free Buddhist Meditation Event,Repentance,Repentance
ATTACH;FMTTYPE=image/jpeg:https://temple.vllcs.org/files/2017/08/Ksitigarbha.jpg
ORGANIZER;CN="Lotus%20Light%20Temple":MAILTO:llcsvancouver@gmail.com
END:VEVENT
END:VCALENDAR