BEGIN:VCALENDAR
VERSION:2.0
PRODID:-//Lotus Light Temple - ECPv5.8.1//NONSGML v1.0//EN
CALSCALE:GREGORIAN
METHOD:PUBLISH
X-WR-CALNAME:Lotus Light Temple
X-ORIGINAL-URL:https://temple.vllcs.org
X-WR-CALDESC:Events for Lotus Light Temple
BEGIN:VTIMEZONE
TZID:America/Vancouver
BEGIN:DAYLIGHT
TZOFFSETFROM:-0800
TZOFFSETTO:-0700
TZNAME:PDT
DTSTART:20260308T100000
END:DAYLIGHT
BEGIN:STANDARD
TZOFFSETFROM:-0700
TZOFFSETTO:-0800
TZNAME:PST
DTSTART:20261101T090000
END:STANDARD
END:VTIMEZONE
BEGIN:VEVENT
DTSTART;TZID=America/Vancouver:20260221T103000
DTEND;TZID=America/Vancouver:20260221T123000
DTSTAMP:20260420T040002
CREATED:20260218T213912Z
LAST-MODIFIED:20260218T213912Z
UID:3353-1771669800-1771677000@temple.vllcs.org
SUMMARY:Feb 21\, 2026 Namo Kurukulla Buddha Mother Love and Respect Fire Homa Ceremony at Lotus Light Temple
DESCRIPTION:Namo Kurukulla Love and Respect Fire Homa Ceremony at Lotus Light Temple\n\nDate: 2026 Feb 21st\, Saturday \nTime: 10:30am~12:30pm \nLocation: Lotus Light Temple (347 E Hastings St\, Vancouver) \nCeremony conducted by: Vajra Master Lian Tzi \nIntro: Benefit: This Buddha Mother’s blessings would show love and harmony upon all disciplines and registrants\, thus\, through the blessings of this Buddha Mother\, love and harmony are bestowed upon all practitioners and registrants. One may gain magnetizing energy\, enrich one’s life\, and receive love\, respect\, and support at home and in the workplace. \nDownload Ceremony Registration Form: Blessing Registration\, Bardo Deliverance Registration \nOn Line Donation. \nOther Temple Service: \nLotus Light Temple 2026 (Bing Wu) Year of the Horse Tai Sui\, Blessing Light and Longevity Light\, Blessing Shrine and Lamp are receiving registration! \nAn empowerment must be received from Living Buddha Lian-sheng or an authorized True Buddha School master before engaging in this particular practice. \nAll ceremony registrations are on a voluntary donation basis. It is a free community event\, everybody is welcome! We welcome sponsors and donations to support our ongoing events and functions!  \nIf you have any enquiries or if you need more information with our activities\, please give us a call! Tel:(604) 685-5548 \nMailing Address: PO Box 88210\, RPO Chinatown\, Vancouver\, B.C.\, Canada V6A 4A5 \n 
URL:https://temple.vllcs.org/events/feb-21-2026-namo-kurukulla-buddha-mother-love-and-respect-fire-homa-ceremony-at-lotus-light-temple/
LOCATION:Lotus Light Temple\, 347 East Hastings St.\, Vancouver\, B.C.\, V6A 1P3\, Canada
CATEGORIES:Ceremony,Fire Homa
ATTACH;FMTTYPE=image/jpeg:https://temple.vllcs.org/files/2026/02/Kurukulla-2-scaled.jpg
ORGANIZER;CN="Lotus%20Light%20Temple":MAILTO:llcsvancouver@gmail.com
END:VEVENT
END:VCALENDAR