BEGIN:VCALENDAR
VERSION:2.0
PRODID:-//Lotus Light Temple - ECPv5.8.1//NONSGML v1.0//EN
CALSCALE:GREGORIAN
METHOD:PUBLISH
X-WR-CALNAME:Lotus Light Temple
X-ORIGINAL-URL:https://temple.vllcs.org
X-WR-CALDESC:Events for Lotus Light Temple
BEGIN:VTIMEZONE
TZID:America/Vancouver
BEGIN:DAYLIGHT
TZOFFSETFROM:-0800
TZOFFSETTO:-0700
TZNAME:PDT
DTSTART:20230312T100000
END:DAYLIGHT
BEGIN:STANDARD
TZOFFSETFROM:-0700
TZOFFSETTO:-0800
TZNAME:PST
DTSTART:20231105T090000
END:STANDARD
END:VTIMEZONE
BEGIN:VEVENT
DTSTART;TZID=America/Vancouver:20231230T103000
DTEND;TZID=America/Vancouver:20231230T123000
DTSTAMP:20260420T024126
CREATED:20231227T004855Z
LAST-MODIFIED:20231227T004855Z
UID:3004-1703932200-1703939400@temple.vllcs.org
SUMMARY:Dec 30 2023 Golden Mother Purification\, Blessing\, Magnetization\, Bardo Fire Homa Ceremony
DESCRIPTION:Golden Mother Purification\, Blessings\, Magnetization\, Bardo Fire Homa Ceremony\nLocation: Lotus Light Temple (347 E Hastings St\, Vancouver)\n Ceremony Time: December 30\, 2023 Saturday 10:30am – 12:30pm\n \nGolden Mother Personal Yoga Liturgy: Golden Mother Sadhana   \nThis great compassionate Golden Mother is the mother of all sentient beings\, she has touched many hearts\, countless of miracles have changed many lives\, testimonies have been told by people from all around the world.  \nLotus Light Temple has organized a special fire homa ceremony to celebrate the coming New Year’s Day 2024.\n \nGolden Mother Introduction: \nGrand Master\, Living Buddha\, Sheng-yen Lu’s \, dharma talk on “Golden Mother’s character and the key important in cultivation“ \n” Golden Mother of the Jade Pond’s Sutra of Universal Deliverance\, Retrieval of Perfection\, Liberation Through Stillness and Wisdom” (not the official translation\, for reference only) \nGolden Mother’s Suthentic Scripture of Universal Deliverance\, Retreival of Perfection\,and Liberation through Meditation Stability and Wisdom \nCeremony Intro/Dedication: \nFire homa offering is one of the most powerful way to show one’s good intention to show our love and respect. This powerful compassionate  Mother can fulfill one’s prayer and wishes\, benefiting all registrants and participants in the human world and netherworld. \nCeremony Registration:\nOnline registration . \nOn Line Donation. \nMailing Address: 200-357 E Hastings St.\, Vancouver\, BC Canada V6A 1P3 \nAll ceremony registrations are on a voluntary donation basis.\nIf you have any enquiries or if you need more information with our activities\, please give us a call! Tel:(604) 685-5548 \n 
URL:https://temple.vllcs.org/events/dec-30-2023-golden-mother-purification-blessing-magnetization-bardo-fire-homa-ceremony/
LOCATION:Lotus Light Temple\, Vancouver\, 347 E. Hastings Street\, Vancouver\, V6A 1P3
CATEGORIES:Ceremony,Fire Homa,Fire Homa
ATTACH;FMTTYPE=image/jpeg:https://temple.vllcs.org/files/2015/04/Golden-Mother-Very-Young-Image-1.jpg
ORGANIZER;CN="Lotus%20Light%20Temple":MAILTO:llcsvancouver@gmail.com
END:VEVENT
END:VCALENDAR