BEGIN:VCALENDAR
VERSION:2.0
PRODID:-//Lotus Light Temple - ECPv5.8.1//NONSGML v1.0//EN
CALSCALE:GREGORIAN
METHOD:PUBLISH
X-WR-CALNAME:Lotus Light Temple
X-ORIGINAL-URL:https://temple.vllcs.org
X-WR-CALDESC:Events for Lotus Light Temple
BEGIN:VTIMEZONE
TZID:America/Vancouver
BEGIN:DAYLIGHT
TZOFFSETFROM:-0800
TZOFFSETTO:-0700
TZNAME:PDT
DTSTART:20250309T100000
END:DAYLIGHT
BEGIN:STANDARD
TZOFFSETFROM:-0700
TZOFFSETTO:-0800
TZNAME:PST
DTSTART:20251102T090000
END:STANDARD
END:VTIMEZONE
BEGIN:VEVENT
DTSTART;TZID=America/Vancouver:20251227T103000
DTEND;TZID=America/Vancouver:20251227T123000
DTSTAMP:20260419T073704
CREATED:20251219T032304Z
LAST-MODIFIED:20251219T032304Z
UID:3299-1766831400-1766838600@temple.vllcs.org
SUMMARY:Dec 27\, 2025 Seven Golden Mother Great Perfection Repentance Ceremony Series (4th Repentance)
DESCRIPTION:Namo Golden Mother Great Perfection Repentance Ceremony Series\n\nGolden Mother Great Perfection Repentance Ceremony\n\nDate: Dec 27th  Saturday \nTime: 10:30am \nLocation: Lotus Light Temple (347 E Hastings St\, Vancoucer) \nCeremony conducted by: Vajra Master Lian Tzi \nFacebook: Lotus Light Temple \n \n  \nIntro: This profound\, compassionate Mother cleanses and purifies her children\, nurture and blessing everyone in her Great Perfection of True Wisdom! Repentance is import because one can bathe in the ocean of pure lights and remove karma and obstacles. By grant offering through fire homa offering ritual to the Golden Mother\, the Mother of All Sentient Beings\, participants will receive blessing and purify one’s body\, speech and mind. This powerful compassionate Mother can fulfill one’s prayer and wishes\, benefiting all registrants and participants in the human world and netherworld.  \nThe world is fraught with hardships and impermanence. At this time of transition between the old and the new year\, the Golden Mother has decreed the establishment of seven Golden Mother Repentance Ceremonies. We sincerely beseech the Great Heavenly Honored One\, the Mother of All Beings\, the Golden Mother of the Jade Pond\, to bestow blessings upon all living beings\, turning misfortune into good fortune\, transforming destinies\, eliminating sins and averting disasters\, dispelling illnesses and prolonging life\, granting brightness and health\, peace and auspiciousness. \nThe schedule for the Seven Ceremony Series of the Golden Mother Repentance is as follows: \n\nNovember 29\, 2025 (Saturday) 10:30 AM – 12:30 PM\nFirst Ceremony of Golden Mother Repentance\nDecember 6\, 2025 (Saturday) 10:30 AM – 12:30 PM\nSecond Ceremony of Golden Mother Repentance\nDecember 18–20\, 2025\nTantric Dharma Camps for the Buddha King\, Immortal King\, and Dragon King \n\nDecember 18 (Thursday) 1:30 PM – 3:00 PM\nThird Ceremony of Golden Mother Repentance\nDecember 19 (Friday) 10:30 AM – 12:30 PM\nFirst to Third Practice of the Dragon King Vase Ritual\nDecember 19 (Friday) 2:00 PM – 4:00 PM\nFourth to Sixth Practice of the Dragon King Vase Ritual\nDecember 19 (Friday) 6:00 PM\nBirthday Celebration Banquet\nDecember 20 (Saturday) 10:30 AM – 12:30 PM\nSeventh Practice (Completion Practice) of the Dragon King Vase Ritual & Livestock Release Ceremony\n\n\nDecember 27\, 2025 (Saturday) 10:30 AM – 12:30 PM\nFourth Ceremony of Golden Mother Repentance\nJanuary 3\, 2026 (Saturday) 10:30 AM – 12:30 PM\nFifth Ceremony of Golden Mother Repentance\nJanuary 10\, 2026 (Saturday) 10:30 AM – 12:30 PM\nSixth Ceremony of Golden Mother Repentance\nJanuary 17\, 2026 (Saturday) 10:30 AM – 12:30 PM\nSeventh Ceremony of Golden Mother Repentance\n\nCeremony Registration: (one may register for your family\, and\, ancestors as well for deliverance) \nDownload registration form: Blessing Registration\, Bardo Registation \nAll ceremony registrations are on a voluntary donation basis. Free community event\, everybody is welcome! \nIf you have any enquiries or if you need more information with our activities\, please give us a call! Tel:(604) 685-5548 or email llcsvancouver@gmail.com \nOn Line Donation. \nMailing Address: PO Box 88210\, RPO Chinatown\, Vancouver\, B.C.\, Canada V6A 4A5
URL:https://temple.vllcs.org/events/dec-27-2025-seven-golden-mother-great-perfection-repentance-ceremony-series-4th-repentance/
LOCATION:Lotus Light Temple\, 347 East Hastings St.\, Vancouver\, B.C.\, V6A 1P3\, Canada
CATEGORIES:Repentance
ATTACH;FMTTYPE=image/jpeg:https://temple.vllcs.org/files/2017/01/Golden-Mother-1.jpg
ORGANIZER;CN="Lotus%20Light%20Temple":MAILTO:llcsvancouver@gmail.com
END:VEVENT
END:VCALENDAR