BEGIN:VCALENDAR
VERSION:2.0
PRODID:-//Lotus Light Temple - ECPv5.8.1//NONSGML v1.0//EN
CALSCALE:GREGORIAN
METHOD:PUBLISH
X-WR-CALNAME:Lotus Light Temple
X-ORIGINAL-URL:http://temple.vllcs.org
X-WR-CALDESC:Events for Lotus Light Temple
BEGIN:VTIMEZONE
TZID:America/Vancouver
BEGIN:DAYLIGHT
TZOFFSETFROM:-0800
TZOFFSETTO:-0700
TZNAME:PDT
DTSTART:20160313T100000
END:DAYLIGHT
BEGIN:STANDARD
TZOFFSETFROM:-0700
TZOFFSETTO:-0800
TZNAME:PST
DTSTART:20161106T090000
END:STANDARD
END:VTIMEZONE
BEGIN:VEVENT
DTSTART;TZID=America/Vancouver:20161105T103000
DTEND;TZID=America/Vancouver:20161105T123000
DTSTAMP:20260421T050059
CREATED:20161104T231417Z
LAST-MODIFIED:20161104T231417Z
UID:2154-1478341800-1478349000@temple.vllcs.org
SUMMARY:True Buddha Repentance Ceremony at Lotus Light Temple
DESCRIPTION:True Buddha Repentance Ceremony\nPadmakumara\nDate: Nov 5th   Saturday Morning\nTime: 10:30am – 12:30pm \nLocation:Lotus Light Temple (Vancouver) \nFacebook: Lotus Light Temple \nTrue Buddha Repentance Liturgy (PDF – printed file)\nOnline registration . \nAll ceremony registrations are on a voluntary donation basis. Free community event\, everybody is welcome! \nIf you have any enquiries or if you need more information with our activities\, please give us a call! Tel:(604) 685-5548 \nOn Line Donation. \nMailing Address: 200-357 E Hastings St.\, Vancouver\, BC Canada V6A 1P3 \n 
URL:http://temple.vllcs.org/events/true-buddha-repentance-ceremony-at-lotus-light-temple/
LOCATION:Lotus Light Temple\, Vancouver\, 347 E. Hastings Street\, Vancouver\, V6A 1P3
CATEGORIES:Ceremony,Repentance
ATTACH;FMTTYPE=image/jpeg:http://temple.vllcs.org/files/2013/12/20120519Padmakumara-1.jpg
ORGANIZER;CN="Lotus%20Light%20Temple":MAILTO:llcsvancouver@gmail.com
END:VEVENT
END:VCALENDAR