BEGIN:VCALENDAR
VERSION:2.0
PRODID:-//Lotus Light Temple - ECPv5.8.1//NONSGML v1.0//EN
CALSCALE:GREGORIAN
METHOD:PUBLISH
X-WR-CALNAME:Lotus Light Temple
X-ORIGINAL-URL:http://temple.vllcs.org
X-WR-CALDESC:Events for Lotus Light Temple
BEGIN:VTIMEZONE
TZID:America/Vancouver
BEGIN:DAYLIGHT
TZOFFSETFROM:-0800
TZOFFSETTO:-0700
TZNAME:PDT
DTSTART:20160313T100000
END:DAYLIGHT
BEGIN:STANDARD
TZOFFSETFROM:-0700
TZOFFSETTO:-0800
TZNAME:PST
DTSTART:20161106T090000
END:STANDARD
END:VTIMEZONE
BEGIN:VEVENT
DTSTART;TZID=America/Vancouver:20161120T103000
DTEND;TZID=America/Vancouver:20161120T123000
DTSTAMP:20260421T033404
CREATED:20140410T162948Z
LAST-MODIFIED:20161112T154307Z
UID:445-1479637800-1479645000@temple.vllcs.org
SUMMARY:Namo Vasudhara Purification\, Blessings\, Enrichment\, Bardo Fire Homa Ceremony & Empowerment
DESCRIPTION:Namo Vasudhara Purification\, Blessings\, Enrichment\, Bardo Fire Homa Ceremony & Empowerment \nTime: Nov 20\, 2016\, Sun at 10:30AM (Lotus Light Monastery\, 6571 No 6 Rd\, Richmond) \nIntro: The “Wealth Attracting Goddess”\, Vasudhara\, is the most wealth deity in the Western Paradise\, who will be able to bless everyone to be financially resourceful.  \nSpecial: Prime Sponsor\, Merit Sponsor; Alter Offerings; Offering to Sangha\, Public Meal Offering \nOnline Registration: \nDownload Blessing Registration Form \, Bardo Registration Form \nVasudhara
URL:http://temple.vllcs.org/events/namo-vasudhara-purification-blessings-enrichment-bardo-fire-homa-ceremony-empowerment-4/
LOCATION:Lotus Light Monastery\, 6571 No. 6 Rd.\, Richmond\, B.C.\, V6W 1C7\, Canada
CATEGORIES:Ceremony,Fire Homa
ATTACH;FMTTYPE=image/jpeg:http://temple.vllcs.org/files/2014/04/20130514222103.jpg
ORGANIZER;CN="Lotus%20Light%20Monastery":MAILTO:llcsvancouver@gmail.com
END:VEVENT
END:VCALENDAR