BEGIN:VCALENDAR
VERSION:2.0
PRODID:-//Lotus Light Temple - ECPv5.8.1//NONSGML v1.0//EN
CALSCALE:GREGORIAN
METHOD:PUBLISH
X-WR-CALNAME:Lotus Light Temple
X-ORIGINAL-URL:http://temple.vllcs.org
X-WR-CALDESC:Events for Lotus Light Temple
BEGIN:VTIMEZONE
TZID:America/Vancouver
BEGIN:DAYLIGHT
TZOFFSETFROM:-0800
TZOFFSETTO:-0700
TZNAME:PDT
DTSTART:20220313T100000
END:DAYLIGHT
BEGIN:STANDARD
TZOFFSETFROM:-0700
TZOFFSETTO:-0800
TZNAME:PST
DTSTART:20221106T090000
END:STANDARD
END:VTIMEZONE
BEGIN:VEVENT
DTSTART;TZID=America/Vancouver:20221004T103000
DTEND;TZID=America/Vancouver:20221004T123000
DTSTAMP:20260422T185146
CREATED:20221003T234900Z
LAST-MODIFIED:20221004T001636Z
UID:2835-1664879400-1664886600@temple.vllcs.org
SUMMARY:Namo the Great Marici Bodhisattva Fire Homa Grand Offering
DESCRIPTION:Prayer for Blessings from the Root Guru Grand Master Lu\nNamo the Great Marici Bodhisattva Fire Homa Grand Offering \n Time: Oct 4\, 2022\, Tuesday @ 10:30am \nLocation:  Lotus Light Temple\, 347 E Hastings St\, Vancouver\nPresiding: Master Lian Tzi\nSupporting: Master\, Reverends\, Dharma Lecturer and Dharma Assistant Team \n Introduction:  \nCelebrate the birthday of the Great Marici Bodhisattva on the annual “Double Yang Festival” day (the 9th day of the 9th Month on the Lunar Calendar)\, you will be well protected and be blessed by Marici Bodhisattva. \nSpecial Offerings: Register to be the Primary Supplicant or Supporting Sponsor for the Fire Homa Grand Offering \nNamo Marici Bodhisattva\nCeremony Registration: \nOnline registration . \nMailing Address: 200-357 E Hastings St.\, Vancouver\, BC Canada V6A 1P3 \nAll ceremony registrations are on a voluntary donation basis. Free community event\, everybody is welcome! \nIf you have any enquiries or if you need more information with our activities\, please give us a call! Tel:(604)685-5548 \nOn Line Donation.
URL:http://temple.vllcs.org/events/namo-the-great-marici-bodhisattva-fire-homa-grand-offering/
LOCATION:Lotus Light Temple\, 347 East Hastings St.\, Vancouver\, B.C.\, V6A 1P3\, Canada
CATEGORIES:Fire Homa,Water Offering
ATTACH;FMTTYPE=image/jpeg:http://temple.vllcs.org/files/2014/09/Marici1.jpg
ORGANIZER;CN="Lotus%20Light%20Temple":MAILTO:llcsvancouver@gmail.com
END:VEVENT
END:VCALENDAR