BEGIN:VCALENDAR
VERSION:2.0
PRODID:-//Lotus Light Temple - ECPv5.8.1//NONSGML v1.0//EN
CALSCALE:GREGORIAN
METHOD:PUBLISH
X-WR-CALNAME:Lotus Light Temple
X-ORIGINAL-URL:http://temple.vllcs.org
X-WR-CALDESC:Events for Lotus Light Temple
BEGIN:VTIMEZONE
TZID:America/Vancouver
BEGIN:DAYLIGHT
TZOFFSETFROM:-0800
TZOFFSETTO:-0700
TZNAME:PDT
DTSTART:20260308T100000
END:DAYLIGHT
BEGIN:STANDARD
TZOFFSETFROM:-0700
TZOFFSETTO:-0800
TZNAME:PST
DTSTART:20261101T090000
END:STANDARD
END:VTIMEZONE
BEGIN:VEVENT
DTSTART;TZID=America/Vancouver:20260217T103000
DTEND;TZID=America/Vancouver:20260217T120000
DTSTAMP:20260419T052639
CREATED:20260214T035434Z
LAST-MODIFIED:20260214T035658Z
UID:3346-1771324200-1771329600@temple.vllcs.org
SUMMARY:Maitreya Bodhisattva Birthday Celebration and Year of Horse (Bing Wu) Chinese New Year Blessing Ceremony
DESCRIPTION:Maitreya Bodhisattva Birthday Celebration and Year of Horse (Bing Wu) Chinese New Year Blessing Fire Homa Ceremony\nTime: Feb 17\, 2026 (Tue) 10:30AM \nIntroduction: Celebrate the Birthday of Maitreya Bodhisattva\, Hold a Fire Homa Offering to all Buddha and Bodhisattvas\, Pray for the Maitreya Bodhisattva’s blessing for the new year. \nSpecials: Primary Supplicant and Blessing Merit Holder ($50 each) \nEvent Specials: Lucky Red Packet from presiding Master: Vajra Master Lian Tzi \nPlease contact us for registration as Primary Supplicant or Blessing Merit Holder. \n 
URL:http://temple.vllcs.org/events/maitreya-bodhisattva-birthday-celebration-and-year-of-horse-bing-wu-chinese-new-year-blessing-ceremony/
LOCATION:Lotus Light Temple\, 347 East Hastings St.\, Vancouver\, B.C.\, V6A 1P3\, Canada
ATTACH;FMTTYPE=image/jpeg:http://temple.vllcs.org/files/2026/02/thangka-彌勒菩薩-scaled.jpg
ORGANIZER;CN="Lotus%20Light%20Temple":MAILTO:llcsvancouver@gmail.com
END:VEVENT
END:VCALENDAR