BEGIN:VCALENDAR
VERSION:2.0
PRODID:-//Lotus Light Temple - ECPv5.8.1//NONSGML v1.0//EN
CALSCALE:GREGORIAN
METHOD:PUBLISH
X-WR-CALNAME:Lotus Light Temple
X-ORIGINAL-URL:http://temple.vllcs.org
X-WR-CALDESC:Events for Lotus Light Temple
BEGIN:VTIMEZONE
TZID:America/Vancouver
BEGIN:DAYLIGHT
TZOFFSETFROM:-0800
TZOFFSETTO:-0700
TZNAME:PDT
DTSTART:20220313T100000
END:DAYLIGHT
BEGIN:STANDARD
TZOFFSETFROM:-0700
TZOFFSETTO:-0800
TZNAME:PST
DTSTART:20221106T090000
END:STANDARD
END:VTIMEZONE
BEGIN:VEVENT
DTSTART;TZID=America/Vancouver:20220402T100000
DTEND;TZID=America/Vancouver:20220402T123000
DTSTAMP:20260421T020557
CREATED:20220318T174739Z
LAST-MODIFIED:20220331T005404Z
UID:2749-1648893600-1648902600@temple.vllcs.org
SUMMARY:Lotus Light Temple Ching Ming (Qing Ming) Festival Compassionate Samadhi Water Repentance Ceremony April 2 2022
DESCRIPTION:Ching Ming Festival\nCompassionate Samadhi Water Repentance Ceremony\nApril 2nd  Sat 10:00am – 12:30pm @ Lotus Light Temple \nLocation: Lotus Light Temple (Vancouver) \nCeremony conducted by: Presiding Master Vajra Master Lian Tzi \nIntro: Ching Ming Festival or Qing Ming a special Chinese day for the remembrance of ancestors.  \nThis repentance ritual has elicited many inconceivable responses from its practitioners throughout history.  \nBy practicing Compassionate Samadhi Water Repentance Ceremony and sincerely engaging in repentance will enable us to change our negative karma and unfold our wisdom\, remove our karmic offenses and increase our blessings. \nIf you have any enquiries or if you need more information with our activities\, please give us a call! Tel:(604) 685-5548 \nOn Line Registration. \nOn Line Donation. \nMailing Address: 200-357 E Hastings St.\, Vancouver\, BC Canada V6A 1P3 \n 
URL:http://temple.vllcs.org/events/lotus-light-temple-ching-ming-qing-ming-festival-compassionate-samadhi-water-repentance-ceremony-april-2-2022/
LOCATION:Lotus Light Temple\, 347 East Hastings St.\, Vancouver\, B.C.\, V6A 1P3\, Canada
CATEGORIES:Ceremony,Repentance
ATTACH;FMTTYPE=image/jpeg:http://temple.vllcs.org/files/2013/12/20120519Padmakumara-1.jpg
ORGANIZER;CN="Lotus%20Light%20Temple":MAILTO:llcsvancouver@gmail.com
END:VEVENT
END:VCALENDAR