BEGIN:VCALENDAR
VERSION:2.0
PRODID:-//Lotus Light Temple - ECPv5.8.1//NONSGML v1.0//EN
CALSCALE:GREGORIAN
METHOD:PUBLISH
X-WR-CALNAME:Lotus Light Temple
X-ORIGINAL-URL:http://temple.vllcs.org
X-WR-CALDESC:Events for Lotus Light Temple
BEGIN:VTIMEZONE
TZID:America/Vancouver
BEGIN:DAYLIGHT
TZOFFSETFROM:-0800
TZOFFSETTO:-0700
TZNAME:PDT
DTSTART:20180311T100000
END:DAYLIGHT
BEGIN:STANDARD
TZOFFSETFROM:-0700
TZOFFSETTO:-0800
TZNAME:PST
DTSTART:20181104T090000
END:STANDARD
END:VTIMEZONE
BEGIN:VEVENT
DTSTART;VALUE=DATE:20180505
DTEND;VALUE=DATE:20180506
DTSTAMP:20260421T033311
CREATED:20180423T224146Z
LAST-MODIFIED:20180430T194235Z
UID:2397-1525521600-1525528800@temple.vllcs.org
SUMMARY:Golden Mother Purification\, Blessing\, Magnetization\, Bardo Fire Homa Ceremony
DESCRIPTION:Mother’s Day Celebration    Free community event\, everybody is welcome!\nGolden Mother Purification\, Blessings\, Magnetization\, Bardo Fire Homa Ceremony\nLocation: Lotus Light Monastery(Richmond)\n Ceremony Time: 2018\, May 5th\, Saturday 10:00am \nGolden Mother Personal Yoga Liturgy: Golden Mother Sadhana   \nThis great compassionate Golden Mother is the mother of all sentient beings\, she has touched many hearts\, countless of miracles have changed many lives\, testimonies have been told by people from all around the world.  \nLotus Light Temple / Lotus Light Monastery have organized a very special fire homa event to celebrate Mother’s Day\, one of the most important event  around the world\, for the heavenly Golden Mother and also for all the mothers whom are giving unconditionally to their families and children.  \nGolden Mother Introduction: \nGrand Master\, Living Buddha\, Sheng-yen Lu’s \, dharma talk on “Golden Mother’s character and the key important in cultivation“ \n” Golden Mother of the Jade Pond’s Sutra of Universal Deliverance\, Retrieval of Perfection\, Liberation Through Stillness and Wisdom” (not the official translation\, for reference only) \nGolden Mother’s Suthentic Scripture of Universal Deliverance\, Retreival of Perfection\,and Liberation through Meditation Stability and Wisdom_LLT Library \nCeremony Intro/Dedication: \nFire homa offering is one of the most powerful way to show one’s good intention to show our love and respect. This powerful compassionate  Mother can fulfill one’s prayer and wishes\, benefiting all registrants and participants in the human world and netherworld. \nCeremony Registration:\nOnline registration . \nOn Line Donation. \nLotus Light Charity Society (LLCS) is hosting “Lotus Light Volunteer Recognition Day and Mother’s Day Luncheon” Event:\nLotus Light Monstery (Richmond)\, starting at 1 pm.\nBring one of your favorite dishes and/or desserts  as an offering to Golden Mother and to the three treasures\, and share the food with everyone in the potluck function held at the temple in the afternoon. \n  \n \nMailing Address: 200-357 E Hastings St.\, Vancouver\, BC Canada V6A 1P3 \nAll ceremony registrations are on a voluntary donation basis.\nIf you have any enquiries or if you need more information with our activities\, please give us a call! Tel:(604) 685-5548 \n 
URL:http://temple.vllcs.org/events/golden-mother-purification-blessing-magnetization-bardo-fire-homa-ceremony-empowerment-2/
LOCATION:Lotus Light Monastery\, 6571 No. 6 Rd.\, Richmond\, B.C.\, V6W 1C7\, Canada
CATEGORIES:Bardo,Celebration,Ceremony,Fire Homa,Fire Homa,Mother's Day,Mother's Day Celebration,Potluck Event
ATTACH;FMTTYPE=image/jpeg:http://temple.vllcs.org/files/2015/04/Golden-Mother-Very-Young-Image-1.jpg
ORGANIZER;CN="Lotus%20Light%20Monastery":MAILTO:llcsvancouver@gmail.com
END:VEVENT
END:VCALENDAR