BEGIN:VCALENDAR
VERSION:2.0
PRODID:-//Lotus Light Temple - ECPv5.8.1//NONSGML v1.0//EN
CALSCALE:GREGORIAN
METHOD:PUBLISH
X-WR-CALNAME:Lotus Light Temple
X-ORIGINAL-URL:http://temple.vllcs.org
X-WR-CALDESC:Events for Lotus Light Temple
BEGIN:VTIMEZONE
TZID:America/Vancouver
BEGIN:DAYLIGHT
TZOFFSETFROM:-0800
TZOFFSETTO:-0700
TZNAME:PDT
DTSTART:20240310T100000
END:DAYLIGHT
BEGIN:STANDARD
TZOFFSETFROM:-0700
TZOFFSETTO:-0800
TZNAME:PST
DTSTART:20241103T090000
END:STANDARD
END:VTIMEZONE
BEGIN:VEVENT
DTSTART;TZID=America/Vancouver:20241207T103000
DTEND;TZID=America/Vancouver:20241207T123000
DTSTAMP:20260421T031607
CREATED:20241130T010134Z
LAST-MODIFIED:20241130T010134Z
UID:3085-1733567400-1733574600@temple.vllcs.org
SUMMARY:Dec 7\, 2024 Arya Avalokitesvara (Noble Kwan Yin) Bodhisattva Purification\, Blessings\, Enrichment\, Bardo Fire Homa Ceremony at Lotus Light Monastery
DESCRIPTION:Arya Avalokitesvara (Noble Kwan Yin) Bodhisattva Purification\, Blessings\, Enrichment\, Bardo Fire Homa Ceremony\nDate: Saturday\, Dec 7\, 2024\nTime: ceremony starts @10:30am \nLocation: Lotus Light Monastery (6571 No 6 Rd\, Richmond) \nCeremony conducted by: Abbot Vajra Master Lian Tzi \nLunch: 1pm; donation is welcomed. On Line Donation.  \nIntro: The merit of fire homa is to purify the negative karma\,  and benefit all registrants and participants in the human world and netherworld.  \n  \nCeremony Registration: Online registration . \nCeremony Fee: On Line Donation.
URL:http://temple.vllcs.org/events/dec-7-2024-arya-avalokitesvara-noble-kwan-yin-bodhisattva-purification-blessings-enrichment-bardo-fire-homa-ceremony-at-lotus-light-monastery/
LOCATION:Lotus Light Monastery\, 6571 No. 6 Rd.\, Richmond\, B.C.\, V6W 1C7\, Canada
CATEGORIES:Ceremony,Fire Homa
ATTACH;FMTTYPE=image/jpeg:http://temple.vllcs.org/files/2024/11/Noble-Kuan-Yin_c.jpg
ORGANIZER;CN="Lotus%20Light%20Temple%20%26%20Lotus%20Light%20Monastery":MAILTO:llcsancouver@gmail.com
END:VEVENT
END:VCALENDAR