BEGIN:VCALENDAR
VERSION:2.0
PRODID:-//Lotus Light Temple - ECPv5.8.1//NONSGML v1.0//EN
CALSCALE:GREGORIAN
METHOD:PUBLISH
X-WR-CALNAME:Lotus Light Temple
X-ORIGINAL-URL:http://temple.vllcs.org
X-WR-CALDESC:Events for Lotus Light Temple
BEGIN:VTIMEZONE
TZID:America/Vancouver
BEGIN:DAYLIGHT
TZOFFSETFROM:-0800
TZOFFSETTO:-0700
TZNAME:PDT
DTSTART:20220313T100000
END:DAYLIGHT
BEGIN:STANDARD
TZOFFSETFROM:-0700
TZOFFSETTO:-0800
TZNAME:PST
DTSTART:20221106T090000
END:STANDARD
END:VTIMEZONE
BEGIN:VEVENT
DTSTART;TZID=America/Vancouver:20220201T103000
DTEND;TZID=America/Vancouver:20220201T120000
DTSTAMP:20260421T062544
CREATED:20220122T003006Z
LAST-MODIFIED:20220122T003038Z
UID:2722-1643711400-1643716800@temple.vllcs.org
SUMMARY:Buddha Maitreya Birthday Celebration and Year of Tiger (REN YIN) Chinese New Year Blessing Ceremony
DESCRIPTION:Buddha Maitreya Birthday Celebration and Year of Tiger (REN YIN) Chinese New Year Blessing Fire Homa Ceremony \nTime: Feb 1\, 2022 (Tue) 10:30AM \nIntroduction: Celebrate the Birthday of Buddha Maitreya\, Hold a Fire Homa Offering to all Buddha and Bodhisattvas\, Pray for the Buddha’s blessing for the new year. \nEvent Specials: Lucky Red Packet from presiding Master: Vajra Master Lian Tzi \nPlease check the Dharma Schedule and register the ceremonies in time. \nOnline Registration \nOnline Donation
URL:http://temple.vllcs.org/events/buddha-maitreya-birthday-celebration-and-year-of-tiger-ren-yin-chinese-new-year-blessing-ceremony/
LOCATION:Lotus Light Temple\, 347 East Hastings St.\, Vancouver\, B.C.\, V6A 1P3\, Canada
ATTACH;FMTTYPE=image/jpeg:http://temple.vllcs.org/files/2022/01/Maitreya-scaled.jpg
ORGANIZER;CN="Lotus%20Light%20Temple":MAILTO:llcsvancouver@gmail.com
END:VEVENT
END:VCALENDAR