BEGIN:VCALENDAR
VERSION:2.0
PRODID:-//Lotus Light Temple - ECPv5.8.1//NONSGML v1.0//EN
CALSCALE:GREGORIAN
METHOD:PUBLISH
X-WR-CALNAME:Lotus Light Temple
X-ORIGINAL-URL:http://temple.vllcs.org
X-WR-CALDESC:Events for Lotus Light Temple
BEGIN:VTIMEZONE
TZID:America/Vancouver
BEGIN:DAYLIGHT
TZOFFSETFROM:-0800
TZOFFSETTO:-0700
TZNAME:PDT
DTSTART:20130310T100000
END:DAYLIGHT
BEGIN:STANDARD
TZOFFSETFROM:-0700
TZOFFSETTO:-0800
TZNAME:PST
DTSTART:20131103T090000
END:STANDARD
END:VTIMEZONE
BEGIN:VEVENT
DTSTART;TZID=America/Vancouver:20131229T103000
DTEND;TZID=America/Vancouver:20131229T123000
DTSTAMP:20260421T062253
CREATED:20131219T152646Z
LAST-MODIFIED:20131220T014449Z
UID:333-1388313000-1388320200@temple.vllcs.org
SUMMARY:Avalokiteshvara-Amoghapasha (Unfailing Lasso) Fire Homa Ceremony
DESCRIPTION:Avalokiteshvara-Amoghapasha (Unfailing Lasso) Bodhisattva Purification\, Blessings\, Magnetization\, Love & Harmony and Bardo Fire Homa Ceremony and Empowerment\nAvalokiteshvara-Amoghapasha\nTime:\nDec 29\, Sunday 10:30am – 12:30pm\nLocation:\nLotus Light Monastery (Richmond)\nIntro: The Bodhisattva that never failing to fulfill your wishes will help you remove karma\, succeed in your career\, enjoy love and harmony\, and delivery your ancestor to pure land. \nSpecial: Prime Sponsor\, Merit Sponsor; Alter Offerings; Offering to Sangha\, Public Meal Offering;
URL:http://temple.vllcs.org/events/avalokiteshvara-amoghapasha-unfailing-lasso-fire-homa-ceremony/
LOCATION:Lotus Light Monastery\, 6571 No. 6 Rd.\, Richmond\, B.C.\, V6W 1C7\, Canada
ATTACH;FMTTYPE=image/jpeg:http://temple.vllcs.org/files/2013/12/20120225Avalokiteshvara-Amoghapasha-1.jpg
ORGANIZER;CN="Lotus%20Light%20Monastery":MAILTO:llcsvancouver@gmail.com
END:VEVENT
END:VCALENDAR