BEGIN:VCALENDAR
VERSION:2.0
PRODID:-//Lotus Light Temple - ECPv5.8.1//NONSGML v1.0//EN
CALSCALE:GREGORIAN
METHOD:PUBLISH
X-WR-CALNAME:Lotus Light Temple
X-ORIGINAL-URL:http://temple.vllcs.org
X-WR-CALDESC:Events for Lotus Light Temple
BEGIN:VTIMEZONE
TZID:America/Vancouver
BEGIN:DAYLIGHT
TZOFFSETFROM:-0800
TZOFFSETTO:-0700
TZNAME:PDT
DTSTART:20170312T100000
END:DAYLIGHT
BEGIN:STANDARD
TZOFFSETFROM:-0700
TZOFFSETTO:-0800
TZNAME:PST
DTSTART:20171105T090000
END:STANDARD
END:VTIMEZONE
BEGIN:VEVENT
DTSTART;TZID=America/Vancouver:20170602T190000
DTEND;TZID=America/Vancouver:20170603T130000
DTSTAMP:20260419T065803
CREATED:20170521T055025Z
LAST-MODIFIED:20170521T055025Z
UID:2263-1496430000-1496494800@temple.vllcs.org
SUMMARY:7 Sessions of Dragon King Treasure Vase & Freeing Livestock  2-day Dharma Seminar Ceremony\, & Purification Empowerment
DESCRIPTION:7 Sessions of Dragon King Treasure Vase & Freeing Livestock  2-day Dharma Seminar Ceremony\, & Purification Empowerment  \nJune 2 Fri. 7:00pm – 9:00 pm Dragon King Treasure Vase Practice \nJune 3 Sat.  10:00am – 1:00pm \n​1st Feature: Dragon King Treasure Vase Practice (final 7th session) \n​2nd Feature: **** Freeing Livestock Ceremony​ ******\n\nSea Livestock: Livestock will be set free at Deep Cove\, donation for the purchase of livestock and the boat rental cost are welcomed!\nBenefit: Many had great responses from this unique Esoteric Practice. Dragon King had fulfilled many wishes  and dreams for the participants.   \nDragon Vase is needed for Dragon King Treasure Vase Practice\, the cost for the vase is 28/each. \nIf you have any enquiries or if you need more information with our activities\, please give us a call! Tel:(604) 685-5548 \nOn Line Donation. \nMailing Address: 200-357 E Hastings St.\, Vancouver\, BC Canada V6A 1P3
URL:http://temple.vllcs.org/events/7-sessions-of-dragon-king-treasure-vase-freeing-livestock-2-day-dharma-seminar-ceremony-purification-empowerment/
LOCATION:Lotus Light Temple in Vancouver\, 347 E. Hastings Street\, Vancouver\, V6A 1P3
CATEGORIES:Dharma Seminar,Dragon King Treasure Vase Practice,Live Stock Release Ceremony
ATTACH;FMTTYPE=image/jpeg:http://temple.vllcs.org/files/2017/05/p1161-9-02ad.jpg
ORGANIZER;CN="Lotus%20Light%20Temple":MAILTO:llcsvancouver@gmail.com
END:VEVENT
END:VCALENDAR