BEGIN:VCALENDAR
VERSION:2.0
PRODID:-//Lotus Light Temple - ECPv5.8.1//NONSGML v1.0//EN
CALSCALE:GREGORIAN
METHOD:PUBLISH
X-WR-CALNAME:Lotus Light Temple
X-ORIGINAL-URL:http://temple.vllcs.org
X-WR-CALDESC:Events for Lotus Light Temple
BEGIN:VTIMEZONE
TZID:America/Vancouver
BEGIN:DAYLIGHT
TZOFFSETFROM:-0800
TZOFFSETTO:-0700
TZNAME:PDT
DTSTART:20220313T100000
END:DAYLIGHT
BEGIN:STANDARD
TZOFFSETFROM:-0700
TZOFFSETTO:-0800
TZNAME:PST
DTSTART:20221106T090000
END:STANDARD
END:VTIMEZONE
BEGIN:VEVENT
DTSTART;TZID=America/Vancouver:20220611T103000
DTEND;TZID=America/Vancouver:20220611T123000
DTSTAMP:20260423T002845
CREATED:20220609T010235Z
LAST-MODIFIED:20220609T010235Z
UID:2786-1654943400-1654950600@temple.vllcs.org
SUMMARY:20220611 True Buddha Repentance Ceremony at Lotus Light Temple
DESCRIPTION:True Buddha Repentance Ceremony\nPadmakumara\nDate: Jun 11th   Saturday Morning\nTime: 10:30am – 12:30pm \nLocation:Lotus Light Temple (Vancouver) \nFacebook: Lotus Light Temple \nIntro:  \nTo celebrate Guru Grand Master Lu’s Birthday\, by practicing the True Buddha Repentance one could purify the negative karma of body\, speech and mind. \nTrue Buddha Repentance Liturgy (PDF – printed file)\nOnline registration . \nAll ceremony registrations are on a voluntary donation basis. Free community event\, everybody is welcome! \nIf you have any enquiries or if you need more information with our activities\, please give us a call! Tel:(604) 685-5548 \nOn Line Donation. \nMailing Address: 200-357 E Hastings St.\, Vancouver\, BC Canada V6A 1P3 \n 
URL:http://temple.vllcs.org/events/20220611-true-buddha-repentance-ceremony-at-lotus-light-temple/
LOCATION:Lotus Light Temple\, Vancouver\, 347 E. Hastings Street\, Vancouver\, V6A 1P3
CATEGORIES:Ceremony,Padmakumara,Repentance
ATTACH;FMTTYPE=image/jpeg:http://temple.vllcs.org/files/2013/12/20120519Padmakumara-1.jpg
ORGANIZER;CN="Lotus%20Light%20Temple":MAILTO:llcsvancouver@gmail.com
END:VEVENT
END:VCALENDAR